BEGIN:VCALENDAR
VERSION:2.0
PRODID:-//wp-events-plugin.com//7.2.3.1//EN
TZID:Europe/Paris
X-WR-TIMEZONE:Europe/Paris
BEGIN:VEVENT
UID:27@citoyens1320.be
DTSTART;TZID=Europe/Paris:20241107T200000
DTEND;TZID=Europe/Paris:20241107T220000
DTSTAMP:20241018T124810Z
URL:https://citoyens1320.be/events/les-pfas-et-leurs-effets-sur-la-sante-c
 omment-sortir-de-limpuissance/
SUMMARY:« Les PFAS et leurs effets sur la santé »\, comment sortir de l'
 impuissance ?
DESCRIPTION:Conférence « Les PFAS et leurs effets sur la santé »\, comm
 ent sortir de l’impuissance ?\n\nLe jeudi 7 novembre 2024 à Louvain-la-
 Neuve\n\nConférence #1 « Les PFAS et leurs effets sur la santé »\n– 
 Quand ? Le jeudi 7 novembre 2024 de 20h à 22h.\n– Où ? À l’ UCLouva
 in\, auditoire Montesquieu (rue Montesquieu 32 à Louvain-la-neuve).\n– 
 Entrée libre\, pas de réservation\n\nBeauvechain\, Jodoigne\, Ronquière
 s\, Chièvres… ont fait la une de l’actualité ces derniers mois en ra
 ison de la teneur élevée en PFAS (substances per- et polyfluoroalkylées
 ) dans l’eau de distribution. Ces révélations inquiètent la populatio
 n qui trouve peu de réponses à ses questions.\n\nQue sont les PFAS ? Com
 ment se retrouvent-ils dans l’eau que nous buvons et les sols que nous c
 ultivons ? En quoi sont-ils dangereux pour la santé ? Comment (ré)agir e
 n tant que soignant∙e\, patient∙e et citoyen∙ne ?\n\nIntervenant·e
 ·s\n– Sébastien Cleeren\, médecin généraliste\, membre de la cellul
 e environnement de la Société Scientifique de Médecine Générale (SSMG
 )\n– Emmanuel Morimont\, journaliste RTBF réalisateur du documentaire 
 « Polluants éternels\, le silence coupable »\n– Delphine Misonne\, do
 cteure en sciences juridiques (UCLouvain Saint-Louis Bruxelles).\n\nPlus d
 ’infos : www.maisonmedicale.org/actualites/cycle-sur-les-polluants-chimi
 ques-sortir-de-limpuissance/\n\nConférence « Les PFAS et leurs effets su
 r la santé »\, comment sortir de l’impuissance ?\n(publié le 08/10/24
 )\n\nContact\nFédération des Maisons Médicales &amp\; Collectifs de San
 té Francophones\nBd du Midi\, 25 / boîte 5\n1000 Bruxelles\n\n+ CANOPEA\
 n\nDans le cadre du Cycle sur les polluants chimiques « Sortir de l’imp
 uissance ! »\n\nÀ suivre\n\nConférence #2 – Sujet : Recyclage des mé
 taux\, quels dangers pour la santé ?\n– Le 10 décembre 19h30 à Char
 leroi (Charleroi Auditorium du CPAS de Charleroi\, Boulevard Joseph II\, 1
 3 – 6000 Charleroi)\n\nConférence #3 – Sujet : Le Chlordécone\, un p
 olluant néocolonial aux Antilles françaises.\n– En janvier 2025 à Bru
 xelles.\n\nConférence #4 – Sujet : Les leviers juridiques et citoyens f
 ace aux pollutions chimiques.\n– En février 2025 à Namur.\n\n&nbsp\;
ATTACH;FMTTYPE=image/jpeg:https://i0.wp.com/citoyens1320.be/wp-content/upl
 oads/2024/10/pfas-7novembre2024.jpg?fit=458%2C328&ssl=1
CATEGORIES:Conférence/débat/projection/rencontre citoyenne
LOCATION:Auditoire Montesquieu - Louvain-la-Neuve\, rue Montesquieu 32\, Lo
 uvain-la-neuve\, -\, 1348\, Wallonie\, Belgique
X-APPLE-STRUCTURED-LOCATION;VALUE=URI;X-ADDRESS=rue Montesquieu 32\, Louvai
 n-la-neuve\, -\, 1348\, Wallonie\, Belgique;X-APPLE-RADIUS=100;X-TITLE=Aud
 itoire Montesquieu - Louvain-la-Neuve:geo:0,0
END:VEVENT
BEGIN:VTIMEZONE
TZID:Europe/Paris
X-LIC-LOCATION:Europe/Paris
BEGIN:STANDARD
DTSTART:20241027T020000
TZOFFSETFROM:+0200
TZOFFSETTO:+0100
TZNAME:CET
END:STANDARD
END:VTIMEZONE
END:VCALENDAR